BEGIN:VCALENDAR
VERSION:2.0
PRODID:-//Wirtschaftsverband Wadern|Weiskirchen - ECPv6.15.12.2//NONSGML v1.0//EN
CALSCALE:GREGORIAN
METHOD:PUBLISH
X-ORIGINAL-URL:https://wvwadern-weiskirchen.de
X-WR-CALDESC:Veranstaltungen für Wirtschaftsverband Wadern|Weiskirchen
REFRESH-INTERVAL;VALUE=DURATION:PT1H
X-Robots-Tag:noindex
X-PUBLISHED-TTL:PT1H
BEGIN:VTIMEZONE
TZID:Europe/Berlin
BEGIN:DAYLIGHT
TZOFFSETFROM:+0100
TZOFFSETTO:+0200
TZNAME:CEST
DTSTART:20240331T010000
END:DAYLIGHT
BEGIN:STANDARD
TZOFFSETFROM:+0200
TZOFFSETTO:+0100
TZNAME:CET
DTSTART:20241027T010000
END:STANDARD
BEGIN:DAYLIGHT
TZOFFSETFROM:+0100
TZOFFSETTO:+0200
TZNAME:CEST
DTSTART:20250330T010000
END:DAYLIGHT
BEGIN:STANDARD
TZOFFSETFROM:+0200
TZOFFSETTO:+0100
TZNAME:CET
DTSTART:20251026T010000
END:STANDARD
BEGIN:DAYLIGHT
TZOFFSETFROM:+0100
TZOFFSETTO:+0200
TZNAME:CEST
DTSTART:20260329T010000
END:DAYLIGHT
BEGIN:STANDARD
TZOFFSETFROM:+0200
TZOFFSETTO:+0100
TZNAME:CET
DTSTART:20261025T010000
END:STANDARD
END:VTIMEZONE
BEGIN:VEVENT
DTSTART;TZID=Europe/Berlin:20251125T183000
DTEND;TZID=Europe/Berlin:20251125T213000
DTSTAMP:20260421T182615
CREATED:20250627T074955Z
LAST-MODIFIED:20251112T102952Z
UID:1923-1764095400-1764106200@wvwadern-weiskirchen.de
SUMMARY:WV - Vorstandssitzung
DESCRIPTION:Vorstandssitzung im Büro des Wirtschaftsverbandes Wadern|Weiskirchen \nTops: Nikolaus Truck und Waderner Weihnachtsmarkt \nab 19:15 Uhr – Packen der 1500 Weihnachtstüten im Haco
URL:https://wvwadern-weiskirchen.de/termine/wv-vorstandssitzung-8/
LOCATION:WV-Büro\, Unterstr. 14\, Wadern\, Saarland\, 66687\, Deutschland
ORGANIZER;CN="WV Wadern|Weiskirchen":MAILTO:h.sorgen@wvwadern-weiskirchen.de
END:VEVENT
BEGIN:VEVENT
DTSTART;TZID=Europe/Berlin:20251129T140000
DTEND;TZID=Europe/Berlin:20251129T190000
DTSTAMP:20260421T182615
CREATED:20251112T104528Z
LAST-MODIFIED:20251112T104813Z
UID:2170-1764424800-1764442800@wvwadern-weiskirchen.de
SUMMARY:Nikolaus Truck Tour 1
DESCRIPTION:Auch in diesem Jahr fährt der allseits beliebte und bekannte „Nikolausexpress Hochwald“ in der Adventszeit wieder durch den Hochwald –\nund das mit einer kleinen\, aber spannenden Neuerung!\n\nDa die Firma Schirra ihre Busse verkauft hat\, mussten wir kreativ werden - und haben eine tolle Lösung gefunden:\nIn diesem Jahr starten wir mit einem großen Truck der Firma Jungels\, festlich geschmückt und mit jeder Menge Weihnachtsstimmung an Bord.\n\nNatürlich darf auch der Nikolaus persönlich und sein Weihnachtsengel nicht fehlen!\nGemeinsam mit seinem Team sorgt er für strahlende Kinderaugen\, weihnachtliche Musik und Geschenktüten für die Kinder.\n\nOb jung oder alt - der Nikolausexpress bringt auch 2025 wieder Freude\, Gemeinschaft und festliche Stimmung in den Hochwald!
URL:https://wvwadern-weiskirchen.de/termine/nikoluas-truck-tour-1/
LOCATION:Saarland
ORGANIZER;CN="WV Wadern|Weiskirchen":MAILTO:h.sorgen@wvwadern-weiskirchen.de
END:VEVENT
BEGIN:VEVENT
DTSTART;TZID=Europe/Berlin:20251129T140000
DTEND;TZID=Europe/Berlin:20251130T190000
DTSTAMP:20260421T182615
CREATED:20251112T102717Z
LAST-MODIFIED:20251112T104054Z
UID:2161-1764424800-1764529200@wvwadern-weiskirchen.de
SUMMARY:Waderner Weihnachtsmarkt 2025
DESCRIPTION:Waderner Weihnacht – Zauberhafte Adventsstimmung auf dem Marktplatz \nWenn sich das Jahr dem Ende zuneigt und der Duft von Zimt und Glühwein durch die Straßen zieht\, verwandelt sich der Waderner Marktplatz wieder in eine zauberhafte Weihnachtskulisse. \nAm 29. und 30. November – dem 1. Adventswochenende – lädt die „Waderner Weihnacht“ Groß und Klein zum gemütlichen Bummeln\, Genießen und Verweilen ein. Freuen Sie sich auf duftenden Glühwein\, leckere weihnachtliche Köstlichkeiten und stimmungsvolle Musik\, die den Marktplatz in festlichen Glanz tauchen. \nKommen Sie vorbei und lassen Sie sich von der besonderen Atmosphäre der Waderner Weihnacht verzaubern – der perfekte Start in die Adventszeit!
URL:https://wvwadern-weiskirchen.de/termine/waderner-weihnachtsmarkt-2025/
LOCATION:Marktplatz Wadern\, Marktplatz\, 66687 Wadern\, Saarland\, 66687\, Germany
END:VEVENT
END:VCALENDAR