BEGIN:VCALENDAR
VERSION:2.0
PRODID:-//Wirtschaftsverband Wadern|Weiskirchen - ECPv6.15.12.2//NONSGML v1.0//EN
CALSCALE:GREGORIAN
METHOD:PUBLISH
X-WR-CALNAME:Wirtschaftsverband Wadern|Weiskirchen
X-ORIGINAL-URL:https://wvwadern-weiskirchen.de
X-WR-CALDESC:Veranstaltungen für Wirtschaftsverband Wadern|Weiskirchen
REFRESH-INTERVAL;VALUE=DURATION:PT1H
X-Robots-Tag:noindex
X-PUBLISHED-TTL:PT1H
BEGIN:VTIMEZONE
TZID:Europe/Berlin
BEGIN:DAYLIGHT
TZOFFSETFROM:+0100
TZOFFSETTO:+0200
TZNAME:CEST
DTSTART:20240331T010000
END:DAYLIGHT
BEGIN:STANDARD
TZOFFSETFROM:+0200
TZOFFSETTO:+0100
TZNAME:CET
DTSTART:20241027T010000
END:STANDARD
BEGIN:DAYLIGHT
TZOFFSETFROM:+0100
TZOFFSETTO:+0200
TZNAME:CEST
DTSTART:20250330T010000
END:DAYLIGHT
BEGIN:STANDARD
TZOFFSETFROM:+0200
TZOFFSETTO:+0100
TZNAME:CET
DTSTART:20251026T010000
END:STANDARD
BEGIN:DAYLIGHT
TZOFFSETFROM:+0100
TZOFFSETTO:+0200
TZNAME:CEST
DTSTART:20260329T010000
END:DAYLIGHT
BEGIN:STANDARD
TZOFFSETFROM:+0200
TZOFFSETTO:+0100
TZNAME:CET
DTSTART:20261025T010000
END:STANDARD
END:VTIMEZONE
BEGIN:VEVENT
DTSTART;TZID=Europe/Berlin:20250704T150000
DTEND;TZID=Europe/Berlin:20250704T190000
DTSTAMP:20260422T030511
CREATED:20250627T073919Z
LAST-MODIFIED:20250627T081111Z
UID:1912-1751641200-1751655600@wvwadern-weiskirchen.de
SUMMARY:Baustelle\, Beats & Bratwurst
DESCRIPTION:🚧 Was passiert eigentlich am Kreisel in Wadern?\nDer Wirtschaftsverband WVW Wadern-Weiskirchen lädt euch herzlich ein zu einem etwas anderen Info-Nachmittag: \n📅 Freitag\, 4. Juli von 15–18 Uhr\n📍 Unterer Platz Montmorillon\, Wadern \nWir bringen euch Informationen aus erster Hand vom Landesbetrieb für Straßenbau (LfS) – ganz ohne Amtsdeutsch\, dafür mit Bratwurst\, Beats & guter Laune! 🎶🌭 \n🎷 Live-Musik von der Jazz Old Stars Combo\n🍴 Grillspezialitäten & Drinks vom [@HACO Wadern] \nKommen. Fragen. Mitreden.\nDenn nur gemeinsam kommen wir weiter – und machen das Beste draus.
URL:https://wvwadern-weiskirchen.de/termine/baustelle-beats-bratwurst/
LOCATION:Platz Montmorillon\, PlatzMontmorillon\, 66687 Wadern\, Saarland\, 66687\, Germany
ORGANIZER;CN="WV Wadern|Weiskirchen":MAILTO:h.sorgen@wvwadern-weiskirchen.de
END:VEVENT
BEGIN:VEVENT
DTSTART;TZID=Europe/Berlin:20250710T170000
DTEND;TZID=Europe/Berlin:20250710T190000
DTSTAMP:20260422T030511
CREATED:20250627T075353Z
LAST-MODIFIED:20250627T075630Z
UID:1925-1752166800-1752174000@wvwadern-weiskirchen.de
SUMMARY:WV - Besprechung
DESCRIPTION:Donnerstag\, 10. Juli um 17.00 Uhr im Sitzungssaal des Rathauses in Weiskirchen \nPlanung von Veranstaltungen in Weiskirchen
URL:https://wvwadern-weiskirchen.de/termine/wv-besprechung/
LOCATION:Rathaus Weiskirchen\, Kirchenweg 2\, Weiskirchen\, Saarland\, 66709\, Germany
ORGANIZER;CN="WV Wadern|Weiskirchen":MAILTO:h.sorgen@wvwadern-weiskirchen.de
END:VEVENT
BEGIN:VEVENT
DTSTART;TZID=Europe/Berlin:20250729T183000
DTEND;TZID=Europe/Berlin:20250729T213000
DTSTAMP:20260422T030511
CREATED:20250204T123622Z
LAST-MODIFIED:20250627T074359Z
UID:1817-1753813800-1753824600@wvwadern-weiskirchen.de
SUMMARY:WV - Vorstandssitzung
DESCRIPTION:Vorstandssitzung im Büro des Wirtschaftsverbandes Wadern|Weiskirchen \nTops werden per Mail versendet
URL:https://wvwadern-weiskirchen.de/termine/wv-vorstandssitzung-5/
LOCATION:WV-Büro\, Unterstr. 14\, Wadern\, Saarland\, 66687\, Deutschland
ORGANIZER;CN="WV Wadern|Weiskirchen":MAILTO:h.sorgen@wvwadern-weiskirchen.de
END:VEVENT
END:VCALENDAR