BEGIN:VCALENDAR
VERSION:2.0
PRODID:-//Wirtschaftsverband Wadern|Weiskirchen - ECPv6.15.12.2//NONSGML v1.0//EN
CALSCALE:GREGORIAN
METHOD:PUBLISH
X-WR-CALNAME:Wirtschaftsverband Wadern|Weiskirchen
X-ORIGINAL-URL:https://wvwadern-weiskirchen.de
X-WR-CALDESC:Veranstaltungen für Wirtschaftsverband Wadern|Weiskirchen
REFRESH-INTERVAL;VALUE=DURATION:PT1H
X-Robots-Tag:noindex
X-PUBLISHED-TTL:PT1H
BEGIN:VTIMEZONE
TZID:Europe/Berlin
BEGIN:DAYLIGHT
TZOFFSETFROM:+0100
TZOFFSETTO:+0200
TZNAME:CEST
DTSTART:20250330T010000
END:DAYLIGHT
BEGIN:STANDARD
TZOFFSETFROM:+0200
TZOFFSETTO:+0100
TZNAME:CET
DTSTART:20251026T010000
END:STANDARD
BEGIN:DAYLIGHT
TZOFFSETFROM:+0100
TZOFFSETTO:+0200
TZNAME:CEST
DTSTART:20260329T010000
END:DAYLIGHT
BEGIN:STANDARD
TZOFFSETFROM:+0200
TZOFFSETTO:+0100
TZNAME:CET
DTSTART:20261025T010000
END:STANDARD
BEGIN:DAYLIGHT
TZOFFSETFROM:+0100
TZOFFSETTO:+0200
TZNAME:CEST
DTSTART:20270328T010000
END:DAYLIGHT
BEGIN:STANDARD
TZOFFSETFROM:+0200
TZOFFSETTO:+0100
TZNAME:CET
DTSTART:20271031T010000
END:STANDARD
END:VTIMEZONE
BEGIN:VEVENT
DTSTART;TZID=Europe/Berlin:20260913T100000
DTEND;TZID=Europe/Berlin:20260913T180000
DTSTAMP:20260419T192034
CREATED:20251229T111748Z
LAST-MODIFIED:20260306T093224Z
UID:2215-1789293600-1789322400@wvwadern-weiskirchen.de
SUMMARY:Weg der Wirtschaft 2026
DESCRIPTION:Weg der Wirtschaft am Noswendeler See \nSchlachtfest vom HVV Noswendel \n          Aufstellen der Infosdisplays unserer Mitglieder rund um den Noswendeler See \nGewinnspiel und Kinderschminken
URL:https://wvwadern-weiskirchen.de/termine/weg-der-wirtschaft-2026/
LOCATION:Noswendel\, rund um den See\, Wadern-Noswendel\, Saarland\, 66687\, Deutschland
ORGANIZER;CN="WV Wadern|Weiskirchen":MAILTO:h.sorgen@wvwadern-weiskirchen.de
END:VEVENT
END:VCALENDAR