BEGIN:VCALENDAR
VERSION:2.0
PRODID:-//Wirtschaftsverband Wadern|Weiskirchen - ECPv6.15.12.2//NONSGML v1.0//EN
CALSCALE:GREGORIAN
METHOD:PUBLISH
X-ORIGINAL-URL:https://wvwadern-weiskirchen.de
X-WR-CALDESC:Veranstaltungen für Wirtschaftsverband Wadern|Weiskirchen
REFRESH-INTERVAL;VALUE=DURATION:PT1H
X-Robots-Tag:noindex
X-PUBLISHED-TTL:PT1H
BEGIN:VTIMEZONE
TZID:Europe/Berlin
BEGIN:DAYLIGHT
TZOFFSETFROM:+0100
TZOFFSETTO:+0200
TZNAME:CEST
DTSTART:20250330T010000
END:DAYLIGHT
BEGIN:STANDARD
TZOFFSETFROM:+0200
TZOFFSETTO:+0100
TZNAME:CET
DTSTART:20251026T010000
END:STANDARD
BEGIN:DAYLIGHT
TZOFFSETFROM:+0100
TZOFFSETTO:+0200
TZNAME:CEST
DTSTART:20260329T010000
END:DAYLIGHT
BEGIN:STANDARD
TZOFFSETFROM:+0200
TZOFFSETTO:+0100
TZNAME:CET
DTSTART:20261025T010000
END:STANDARD
BEGIN:DAYLIGHT
TZOFFSETFROM:+0100
TZOFFSETTO:+0200
TZNAME:CEST
DTSTART:20270328T010000
END:DAYLIGHT
BEGIN:STANDARD
TZOFFSETFROM:+0200
TZOFFSETTO:+0100
TZNAME:CET
DTSTART:20271031T010000
END:STANDARD
END:VTIMEZONE
BEGIN:VEVENT
DTSTART;TZID=Europe/Berlin:20260320T183000
DTEND;TZID=Europe/Berlin:20260320T183000
DTSTAMP:20260421T134502
CREATED:20260306T085519Z
LAST-MODIFIED:20260306T085705Z
UID:2404-1774031400-1774031400@wvwadern-weiskirchen.de
SUMMARY:Mitgliederabend Hofgut Dösterhof
DESCRIPTION:Genuss. Begegnung. Austausch. \nLiebe Mitglieder\, \nmanche Abende bleiben in Erinnerung\, weil einfach alles stimmt: \ndas Ambiente\, das Essen\, die Gespräche – und die Menschen. \nWir als Wirtschaftsverband Wadern|Weiskirchen laden euch herzlich zu einem festlichen Mitgliederabend ein\, bei dem Genuss und persönlicher Austausch im Mittelpunkt stehen. \nIn der besonderen Atmosphäre des Hofgut Dösterhof erwartet euch ein hochwertiges 3-Gänge-Buffet\, eine angenehme musikalische Begleitung und vor allem: \nZeit und Raum für gute Gespräche\, neue Kontakte und den persönlichen Austausch innerhalb unseres Netzwerks. \nGanz bewusst ohne starres Programm – dafür mit viel Gelegenheit zum Kennenlernen\, Wiedersehen und Vernetzen in entspannter\, stilvoller Umgebung. \nTermin \nFreitag\, 20. März 2026\, ab 18:30 Uhr
URL:https://wvwadern-weiskirchen.de/termine/mitgliederabend-hofgut-doesterhof/
LOCATION:Hofgut Dösterhof\, Dösterhof 1\, Wadern-Altland\, Saarland\, 66687\, Germany
ORGANIZER;CN="WV Wadern|Weiskirchen":MAILTO:h.sorgen@wvwadern-weiskirchen.de
END:VEVENT
END:VCALENDAR