BEGIN:VCALENDAR
VERSION:2.0
PRODID:-//Wirtschaftsverband Wadern|Weiskirchen - ECPv6.15.12.2//NONSGML v1.0//EN
CALSCALE:GREGORIAN
METHOD:PUBLISH
X-WR-CALNAME:Wirtschaftsverband Wadern|Weiskirchen
X-ORIGINAL-URL:https://wvwadern-weiskirchen.de
X-WR-CALDESC:Veranstaltungen für Wirtschaftsverband Wadern|Weiskirchen
REFRESH-INTERVAL;VALUE=DURATION:PT1H
X-Robots-Tag:noindex
X-PUBLISHED-TTL:PT1H
BEGIN:VTIMEZONE
TZID:Europe/Berlin
BEGIN:DAYLIGHT
TZOFFSETFROM:+0100
TZOFFSETTO:+0200
TZNAME:CEST
DTSTART:20240331T010000
END:DAYLIGHT
BEGIN:STANDARD
TZOFFSETFROM:+0200
TZOFFSETTO:+0100
TZNAME:CET
DTSTART:20241027T010000
END:STANDARD
BEGIN:DAYLIGHT
TZOFFSETFROM:+0100
TZOFFSETTO:+0200
TZNAME:CEST
DTSTART:20250330T010000
END:DAYLIGHT
BEGIN:STANDARD
TZOFFSETFROM:+0200
TZOFFSETTO:+0100
TZNAME:CET
DTSTART:20251026T010000
END:STANDARD
BEGIN:DAYLIGHT
TZOFFSETFROM:+0100
TZOFFSETTO:+0200
TZNAME:CEST
DTSTART:20260329T010000
END:DAYLIGHT
BEGIN:STANDARD
TZOFFSETFROM:+0200
TZOFFSETTO:+0100
TZNAME:CET
DTSTART:20261025T010000
END:STANDARD
END:VTIMEZONE
BEGIN:VEVENT
DTSTART;TZID=Europe/Berlin:20250905T150000
DTEND;TZID=Europe/Berlin:20250905T220000
DTSTAMP:20260421T233623
CREATED:20250812T093221Z
LAST-MODIFIED:20250812T093457Z
UID:1995-1757084400-1757109600@wvwadern-weiskirchen.de
SUMMARY:Jazz trifft Wirtschaft
DESCRIPTION:Unter dem Motto „Jazz trifft Wirtschaft“ werden die Werbedisplays unserer Mitglieder um den Kirchplatz aufgestellt. \nBegleitet wird die Veranstaltung durch die Combo Jazz Old Stars sowie mit dem Weg der Wirtschaft verknüpften Gewinnspiel.
URL:https://wvwadern-weiskirchen.de/termine/jazz-trifft-wirtschaft/
LOCATION:Kirchplatz Weiskirchen\, Trierer Str. 21\, Weiskirchen\, Saarland\, 66709\, Germany
ORGANIZER;CN="WV Wadern|Weiskirchen":MAILTO:h.sorgen@wvwadern-weiskirchen.de
END:VEVENT
END:VCALENDAR