BEGIN:VCALENDAR
VERSION:2.0
PRODID:-//Wirtschaftsverband Wadern|Weiskirchen - ECPv6.15.12.2//NONSGML v1.0//EN
CALSCALE:GREGORIAN
METHOD:PUBLISH
X-WR-CALNAME:Wirtschaftsverband Wadern|Weiskirchen
X-ORIGINAL-URL:https://wvwadern-weiskirchen.de
X-WR-CALDESC:Veranstaltungen für Wirtschaftsverband Wadern|Weiskirchen
REFRESH-INTERVAL;VALUE=DURATION:PT1H
X-Robots-Tag:noindex
X-PUBLISHED-TTL:PT1H
BEGIN:VTIMEZONE
TZID:Europe/Berlin
BEGIN:DAYLIGHT
TZOFFSETFROM:+0100
TZOFFSETTO:+0200
TZNAME:CEST
DTSTART:20240331T010000
END:DAYLIGHT
BEGIN:STANDARD
TZOFFSETFROM:+0200
TZOFFSETTO:+0100
TZNAME:CET
DTSTART:20241027T010000
END:STANDARD
BEGIN:DAYLIGHT
TZOFFSETFROM:+0100
TZOFFSETTO:+0200
TZNAME:CEST
DTSTART:20250330T010000
END:DAYLIGHT
BEGIN:STANDARD
TZOFFSETFROM:+0200
TZOFFSETTO:+0100
TZNAME:CET
DTSTART:20251026T010000
END:STANDARD
BEGIN:DAYLIGHT
TZOFFSETFROM:+0100
TZOFFSETTO:+0200
TZNAME:CEST
DTSTART:20260329T010000
END:DAYLIGHT
BEGIN:STANDARD
TZOFFSETFROM:+0200
TZOFFSETTO:+0100
TZNAME:CET
DTSTART:20261025T010000
END:STANDARD
END:VTIMEZONE
BEGIN:VEVENT
DTSTART;TZID=Europe/Berlin:20250829T130000
DTEND;TZID=Europe/Berlin:20250829T180000
DTSTAMP:20260422T011155
CREATED:20250812T085510Z
LAST-MODIFIED:20250812T090644Z
UID:1983-1756472400-1756490400@wvwadern-weiskirchen.de
SUMMARY:Tag der offenen Tür
DESCRIPTION:
URL:https://wvwadern-weiskirchen.de/termine/tag-der-offenen-tuer/
LOCATION:SBL Dienstleistungen\, Zur Küs 29\, Losheim am See\, Saarland\, 66679
END:VEVENT
END:VCALENDAR